BEGIN:VCALENDAR
VERSION:2.0
PRODID:-//Ortsverband Tostedt - ECPv6.15.20//NONSGML v1.0//EN
CALSCALE:GREGORIAN
METHOD:PUBLISH
X-ORIGINAL-URL:https://gruene-tostedt.de
X-WR-CALDESC:Veranstaltungen für Ortsverband Tostedt
REFRESH-INTERVAL;VALUE=DURATION:PT1H
X-Robots-Tag:noindex
X-PUBLISHED-TTL:PT1H
BEGIN:VTIMEZONE
TZID:Europe/Berlin
BEGIN:DAYLIGHT
TZOFFSETFROM:+0100
TZOFFSETTO:+0200
TZNAME:CEST
DTSTART:20170326T010000
END:DAYLIGHT
BEGIN:STANDARD
TZOFFSETFROM:+0200
TZOFFSETTO:+0100
TZNAME:CET
DTSTART:20171029T010000
END:STANDARD
BEGIN:DAYLIGHT
TZOFFSETFROM:+0100
TZOFFSETTO:+0200
TZNAME:CEST
DTSTART:20180325T010000
END:DAYLIGHT
BEGIN:STANDARD
TZOFFSETFROM:+0200
TZOFFSETTO:+0100
TZNAME:CET
DTSTART:20181028T010000
END:STANDARD
BEGIN:DAYLIGHT
TZOFFSETFROM:+0100
TZOFFSETTO:+0200
TZNAME:CEST
DTSTART:20190331T010000
END:DAYLIGHT
BEGIN:STANDARD
TZOFFSETFROM:+0200
TZOFFSETTO:+0100
TZNAME:CET
DTSTART:20191027T010000
END:STANDARD
END:VTIMEZONE
BEGIN:VEVENT
DTSTART;TZID=Europe/Berlin:20180115T190000
DTEND;TZID=Europe/Berlin:20180115T220000
DTSTAMP:20260422T201214
CREATED:20180114T203656Z
LAST-MODIFIED:20180114T203656Z
UID:1505-1516042800-1516053600@gruene-tostedt.de
SUMMARY:Ortsverbandssitzung der GRÜNEN/Tostedt am 15.01.2018
DESCRIPTION:
URL:https://gruene-tostedt.de/event/ortsverbandssitzung-der-gruenentostedt-am-15-01-2018/
LOCATION:Bostelmann’s Hotel\, Unter den Linden 1\, Tostedt\, 21255\, Deutschland
END:VEVENT
END:VCALENDAR